BEGIN:VCALENDAR
VERSION:2.0
PRODID:-//IG Digital - ECPv6.15.18//NONSGML v1.0//EN
CALSCALE:GREGORIAN
METHOD:PUBLISH
X-WR-CALNAME:IG Digital
X-ORIGINAL-URL:https://ig-digital.ch
X-WR-CALDESC:Veranstaltungen für IG Digital
REFRESH-INTERVAL;VALUE=DURATION:PT1H
X-Robots-Tag:noindex
X-PUBLISHED-TTL:PT1H
BEGIN:VTIMEZONE
TZID:Europe/Zurich
BEGIN:DAYLIGHT
TZOFFSETFROM:+0100
TZOFFSETTO:+0200
TZNAME:CEST
DTSTART:20230326T010000
END:DAYLIGHT
BEGIN:STANDARD
TZOFFSETFROM:+0200
TZOFFSETTO:+0100
TZNAME:CET
DTSTART:20231029T010000
END:STANDARD
BEGIN:DAYLIGHT
TZOFFSETFROM:+0100
TZOFFSETTO:+0200
TZNAME:CEST
DTSTART:20240331T010000
END:DAYLIGHT
BEGIN:STANDARD
TZOFFSETFROM:+0200
TZOFFSETTO:+0100
TZNAME:CET
DTSTART:20241027T010000
END:STANDARD
BEGIN:DAYLIGHT
TZOFFSETFROM:+0100
TZOFFSETTO:+0200
TZNAME:CEST
DTSTART:20250330T010000
END:DAYLIGHT
BEGIN:STANDARD
TZOFFSETFROM:+0200
TZOFFSETTO:+0100
TZNAME:CET
DTSTART:20251026T010000
END:STANDARD
END:VTIMEZONE
BEGIN:VEVENT
DTSTART;TZID=Europe/Zurich:20241114T180000
DTEND;TZID=Europe/Zurich:20241114T210000
DTSTAMP:20260426T011917
CREATED:20240920T141804Z
LAST-MODIFIED:20241004T070814Z
UID:2937-1731607200-1731618000@ig-digital.ch
SUMMARY:KI in deinem Unternehmen?!
DESCRIPTION:Künstliche Intelligenz (KI) ist längst kein Zukunftsszenario mehr – sie hält bereits Einzug in den Alltag vieler Unternehmen. Doch wie sieht der praktische Einsatz von KI im Unternehmen aus? Welche Potenziale gibt es und wie lässt sich KI konkret für die eigenen Geschäftsprozesse nutzen? \nAn unserem nächsten Anlass\, «KI in deinem Unternehmen?!»\, am 14. November 2024 um 18:00 Uhr in der Aula Goldach\, wollen wir genau diesen Fragen nachgehen – mit einem klaren Fokus auf Praxisnähe und Anwendbarkeit. Anstatt theoretischer Diskussionen stellen wir das Tun in den Vordergrund: Gemeinsam mit Nicolas und Marc vom «KI-Studio»\, einem jungen und innovativen Unternehmen\, das sich auf KI-Themen spezialisiert hat\, bieten wir dir die Möglichkeit\, KI hautnah zu erleben. \nIm ersten Teil des Abends wird das KI-Studio ein Impulsreferat halten und anhand realer Anwendungsbeispiele zeigen\, wie KI in unterschiedlichen Branchen bereits eingesetzt wird. Im zweiten Teil heisst es dann: Hands-On! Hier hast du die Chance\, selbst aktiv zu werden und KI-Anwendungen direkt auszuprobieren. \nEgal\, ob du bereits erste Berührungspunkte mit KI hattest oder ganz neu in das Thema eintauchst – dieser Abend bietet für alle Teilnehmerinnen und Teilnehmer spannende Einblicke und die Möglichkeit\, das Thema KI ganz konkret und praxisnah zu erleben. Sei dabei und entdecke\, wie du KI in deinem Unternehmen nutzen kannst! \n  \nFlyer
URL:https://ig-digital.ch/veranstaltung/ki-in-deinem-unternehmen/
LOCATION:Aula Goldach\, Schülerweg 2\, 9403 Goldach\, Schweiz
ATTACH;FMTTYPE=image/jpeg:https://ig-digital.ch/wp-content/uploads/2024/10/ki-studio-team.jpg
END:VEVENT
END:VCALENDAR